NROWS          7585
NCOLS          6176
NBANDS         1
NBITS          8
BYTEORDER      I
LAYOUT         BSQ
ULXMAP         548483.000
ULYMAP         4289520.000
XDIM           1.000
YDIM           1.000
SKIPBYTES      6176
MAP_UNITS METERS
BANDROWBYTES   6176
TOTALROWBYTES  6176
/* DATUM NAD83
/* PROJECTION_NAME UTM
/* PROJECTION_ZONE 10
/* SOURCE_IMAGE_DATE 1993 07 10
/* DOQ_FILE_NAME aetna_springs_ne.doq
/* DOQ_QUAD_NAME AETNA_SPRINGS_NE
/* DOQ_STATE CA
