NROWS          7581
NCOLS          6177
NBANDS         1
NBITS          8
BYTEORDER      I
LAYOUT         BSQ
ULXMAP         543089.000
ULYMAP         4282550.000
XDIM           1.000
YDIM           1.000
SKIPBYTES      6177
MAP_UNITS METERS
BANDROWBYTES   6177
TOTALROWBYTES  6177
/* DATUM NAD83
/* PROJECTION_NAME UTM
/* PROJECTION_ZONE 10
/* SOURCE_IMAGE_DATE 1993 07 10
/* DOQ_FILE_NAME aetna_springs_sw.doq
/* DOQ_QUAD_NAME AETNA_SPRINGS_SW
/* DOQ_STATE CA
