NROWS          7596
NCOLS          6190
NBANDS         1
NBITS          8
BYTEORDER      I
LAYOUT         BSQ
ULXMAP         564776.000
ULYMAP         4289648.000
XDIM           1.000
YDIM           1.000
SKIPBYTES      6190
MAP_UNITS METERS
BANDROWBYTES   6190
TOTALROWBYTES  6190
/* DATUM NAD83
/* PROJECTION_NAME UTM
/* PROJECTION_ZONE 10
/* SOURCE_IMAGE_DATE 1993 06 16
/* DOQ_FILE_NAME brooks_nw.doq
/* DOQ_QUAD_NAME BROOKS_NW
/* DOQ_STATE CA
