NROWS          7596
NCOLS          6195
NBANDS         1
NBITS          8
BYTEORDER      I
LAYOUT         BSQ
ULXMAP         564833.000
ULYMAP         4282713.000
XDIM           1.000
YDIM           1.000
SKIPBYTES      6195
MAP_UNITS METERS
BANDROWBYTES   6195
TOTALROWBYTES  6195
/* DATUM NAD83
/* PROJECTION_NAME UTM
/* PROJECTION_ZONE 10
/* SOURCE_IMAGE_DATE 1993 06 16
/* DOQ_FILE_NAME brooks_sw.doq
/* DOQ_QUAD_NAME BROOKS_SW
/* DOQ_STATE CA
