NROWS          7577
NCOLS          6177
NBANDS         1
NBITS          8
BYTEORDER      I
LAYOUT         BSQ
ULXMAP         537686.000
ULYMAP         4275583.000
XDIM           1.000
YDIM           1.000
SKIPBYTES      6177
MAP_UNITS METERS
BANDROWBYTES   6177
TOTALROWBYTES  6177
/* DATUM NAD83
/* PROJECTION_NAME UTM
/* PROJECTION_ZONE 10
/* SOURCE_IMAGE_DATE 1993 07 10
/* DOQ_FILE_NAME calistoga_ne.doq
/* DOQ_QUAD_NAME CALISTOGA_NE
/* DOQ_STATE CA
