NROWS          7581
NCOLS          6181
NBANDS         1
NBITS          8
BYTEORDER      I
LAYOUT         BSQ
ULXMAP         532270.000
ULYMAP         4268620.000
XDIM           1.000
YDIM           1.000
SKIPBYTES      6181
MAP_UNITS METERS
BANDROWBYTES   6181
TOTALROWBYTES  6181
/* DATUM NAD83
/* PROJECTION_NAME UTM
/* PROJECTION_ZONE 10
/* SOURCE_IMAGE_DATE 1993 7 10
/* DOQ_FILE_NAME calistoga_sw.doq
/* DOQ_QUAD_NAME CALISTOGA_SW
/* DOQ_STATE CA
