NROWS          7592
NCOLS          6195
NBANDS         1
NBITS          8
BYTEORDER      I
LAYOUT         BSQ
ULXMAP         559449.000
ULYMAP         4275731.000
XDIM           1.000
YDIM           1.000
SKIPBYTES      6195
MAP_UNITS METERS
BANDROWBYTES   6195
TOTALROWBYTES  6195
/* DATUM NAD83
/* PROJECTION_NAME UTM
/* PROJECTION_ZONE 10
/* SOURCE_IMAGE_DATE 1993 07 06
/* DOQ_FILE_NAME chiles_valley_ne.doq
/* DOQ_QUAD_NAME CHILES_VALLEY_NE
/* DOQ_STATE CA
