NROWS          7588
NCOLS          6191
NBANDS         1
NBITS          8
BYTEORDER      I
LAYOUT         BSQ
ULXMAP         554008.000
ULYMAP         4275688.000
XDIM           1.000
YDIM           1.000
SKIPBYTES      6191
MAP_UNITS METERS
BANDROWBYTES   6191
TOTALROWBYTES  6191
/* DATUM NAD83
/* PROJECTION_NAME UTM
/* PROJECTION_ZONE 10
/* SOURCE_IMAGE_DATE 1993 07 06
/* DOQ_FILE_NAME chiles_valley_nw.doq
/* DOQ_QUAD_NAME CHILES_VALLEY_NW
/* DOQ_STATE CA
