NROWS          7578
NCOLS          6167
NBANDS         1
NBITS          8
BYTEORDER      I
LAYOUT         BSQ
ULXMAP         537620.000
ULYMAP         4289454.000
XDIM           1.000
YDIM           1.000
SKIPBYTES      6167
MAP_UNITS METERS
BANDROWBYTES   6167
TOTALROWBYTES  6167
/* DATUM NAD83
/* PROJECTION_NAME UTM
/* PROJECTION_ZONE 10
/* SOURCE_IMAGE_DATE 1993 07 10
/* DOQ_FILE_NAME detert_reservoir_ne.doq
/* DOQ_QUAD_NAME DETERT_RESERVOIR_NE
/* DOQ_STATE CA
