NROWS          7577
NCOLS          6172
NBANDS         1
NBITS          8
BYTEORDER      I
LAYOUT         BSQ
ULXMAP         537653.000
ULYMAP         4282518.000
XDIM           1.000
YDIM           1.000
SKIPBYTES      6172
MAP_UNITS METERS
BANDROWBYTES   6172
TOTALROWBYTES  6172
/* DATUM NAD83
/* PROJECTION_NAME UTM
/* PROJECTION_ZONE 10
/* SOURCE_IMAGE_DATE 1993 07 10
/* DOQ_FILE_NAME detert_reservoir_se.doq
/* DOQ_QUAD_NAME DETERT_RESERVOIR_SE
/* DOQ_STATE CA
