NROWS          7589
NCOLS          6171
NBANDS         1
NBITS          8
BYTEORDER      I
LAYOUT         BSQ
ULXMAP         553819.000
ULYMAP         4303430.000
XDIM           1.000
YDIM           1.000
SKIPBYTES      6171
MAP_UNITS METERS
BANDROWBYTES   6171
TOTALROWBYTES  6171
/* DATUM NAD83
/* PROJECTION_NAME UTM
/* PROJECTION_ZONE 10
/* SOURCE_IMAGE_DATE 1993 07 06
/* DOQ_FILE_NAME knoxville_nw.doq
/* DOQ_QUAD_NAME KNOXVILLE_NW
/* DOQ_STATE CA
