NROWS          7592
NCOLS          6181
NBANDS         1
NBITS          8
BYTEORDER      I
LAYOUT         BSQ
ULXMAP         559293.000
ULYMAP         4296537.000
XDIM           1.000
YDIM           1.000
SKIPBYTES      6181
MAP_UNITS METERS
BANDROWBYTES   6181
TOTALROWBYTES  6181
/* DATUM NAD83
/* PROJECTION_NAME UTM
/* PROJECTION_ZONE 10
/* SOURCE_IMAGE_DATE 1993 07 06
/* DOQ_FILE_NAME knoxville_se.doq
/* DOQ_QUAD_NAME KNOXVILLE_SE
/* DOQ_STATE CA
