NROWS          7589
NCOLS          6176
NBANDS         1
NBITS          8
BYTEORDER      I
LAYOUT         BSQ
ULXMAP         553867.000
ULYMAP         4296495.000
XDIM           1.000
YDIM           1.000
SKIPBYTES      6176
MAP_UNITS METERS
BANDROWBYTES   6176
TOTALROWBYTES  6176
/* DATUM NAD83
/* PROJECTION_NAME UTM
/* PROJECTION_ZONE 10
/* SOURCE_IMAGE_DATE 1993 07 06
/* DOQ_FILE_NAME knoxville_sw.doq
/* DOQ_QUAD_NAME KNOXVILLE_SW
/* DOQ_STATE CA
