NROWS          7595
NCOLS          6199
NBANDS         1
NBITS          8
BYTEORDER      I
LAYOUT         BSQ
ULXMAP         564890.000
ULYMAP         4275777.000
XDIM           1.000
YDIM           1.000
SKIPBYTES      6199
MAP_UNITS METERS
BANDROWBYTES   6199
TOTALROWBYTES  6199
/* DATUM NAD83
/* PROJECTION_NAME UTM
/* PROJECTION_ZONE 10
/* SOURCE_IMAGE_DATE 1993 07 06
/* DOQ_FILE_NAME lake_berryessa_nw.doq
/* DOQ_QUAD_NAME LAKE_BERRYESSA_NW
/* DOQ_STATE CA
