NROWS          7599
NCOLS          6208
NBANDS         1
NBITS          8
BYTEORDER      I
LAYOUT         BSQ
ULXMAP         570392.000
ULYMAP         4268892.000
XDIM           1.000
YDIM           1.000
SKIPBYTES      6208
MAP_UNITS METERS
BANDROWBYTES   6208
TOTALROWBYTES  6208
/* DATUM NAD83
/* PROJECTION_NAME UTM
/* PROJECTION_ZONE 10
/* SOURCE_IMAGE_DATE 1993 06 16
/* DOQ_FILE_NAME lake_berryessa_se.doq
/* DOQ_QUAD_NAME LAKE_BERRYESSA_SE
/* DOQ_STATE CA
