NROWS          7596
NCOLS          6204
NBANDS         1
NBITS          8
BYTEORDER      I
LAYOUT         BSQ
ULXMAP         564946.000
ULYMAP         4268842.000
XDIM           1.000
YDIM           1.000
SKIPBYTES      6204
MAP_UNITS METERS
BANDROWBYTES   6204
TOTALROWBYTES  6204
/* DATUM NAD83
/* PROJECTION_NAME UTM
/* PROJECTION_ZONE 10
/* SOURCE_IMAGE_DATE 1993 07 06
/* DOQ_FILE_NAME lake_berryessa_sw.doq
/* DOQ_QUAD_NAME LAKE_BERRYESSA_SW
/* DOQ_STATE CA
