NROWS          7603
NCOLS          6209
NBANDS         1
NBITS          8
BYTEORDER      I
LAYOUT         BSQ
ULXMAP         575771.000
ULYMAP         4275881.000
XDIM           1.000
YDIM           1.000
SKIPBYTES      6209
MAP_UNITS METERS
BANDROWBYTES   6209
TOTALROWBYTES  6209
/* DATUM NAD83
/* PROJECTION_NAME UTM
/* PROJECTION_ZONE 10
/* SOURCE_IMAGE_DATE 1993 06 16
/* DOQ_FILE_NAME monticello_dam_nw.doq
/* DOQ_QUAD_NAME MONTICELLO_DAM_NW
/* DOQ_STATE CA
