NROWS          7604
NCOLS          6213
NBANDS         1
NBITS          8
BYTEORDER      I
LAYOUT         BSQ
ULXMAP         575837.000
ULYMAP         4268946.000
XDIM           1.000
YDIM           1.000
SKIPBYTES      6213
MAP_UNITS METERS
BANDROWBYTES   6213
TOTALROWBYTES  6213
/* DATUM NAD83
/* PROJECTION_NAME UTM
/* PROJECTION_ZONE 10
/* SOURCE_IMAGE_DATE 1993 06 16
/* DOQ_FILE_NAME monticello_dam_sw.doq
/* DOQ_QUAD_NAME MONTICELLO_DAM_SW
/* DOQ_STATE CA
