NROWS          7571
NCOLS          6171
NBANDS         1
NBITS          8
BYTEORDER      I
LAYOUT         BSQ
ULXMAP         521340.000
ULYMAP         4282450.000
XDIM           1.000
YDIM           1.000
SKIPBYTES      6171
MAP_UNITS METERS
BANDROWBYTES   6171
TOTALROWBYTES  6171
/* DATUM NAD83
/* PROJECTION_NAME UTM
/* PROJECTION_ZONE 10
/* SOURCE_IMAGE_DATE 1993 7 10
/* DOQ_FILE_NAME mount_saint_helena_sw.doq
/* DOQ_QUAD_NAME MOUNT_SAINT_HELENA_SW
/* DOQ_STATE CA
