NROWS          7584
NCOLS          6185
NBANDS         1
NBITS          8
BYTEORDER      I
LAYOUT         BSQ
ULXMAP         548568.000
ULYMAP         4275649.000
XDIM           1.000
YDIM           1.000
SKIPBYTES      6185
MAP_UNITS METERS
BANDROWBYTES   6185
TOTALROWBYTES  6185
/* DATUM NAD83
/* PROJECTION_NAME UTM
/* PROJECTION_ZONE 10
/* SOURCE_IMAGE_DATE 1993 07 10
/* DOQ_FILE_NAME saint_helena_ne.doq
/* DOQ_QUAD_NAME SAINT_HELENA_NE
/* DOQ_STATE CA
