NROWS          7584
NCOLS          6190
NBANDS         1
NBITS          8
BYTEORDER      I
LAYOUT         BSQ
ULXMAP         548610.000
ULYMAP         4268714.000
XDIM           1.000
YDIM           1.000
SKIPBYTES      6190
MAP_UNITS METERS
BANDROWBYTES   6190
TOTALROWBYTES  6190
/* DATUM NAD83
/* PROJECTION_NAME UTM
/* PROJECTION_ZONE 10
/* SOURCE_IMAGE_DATE 1993 07 10
/* DOQ_FILE_NAME saint_helena_se.doq
/* DOQ_QUAD_NAME SAINT_HELENA_SE
/* DOQ_STATE CA
