NROWS          7593
NCOLS          6185
NBANDS         1
NBITS          8
BYTEORDER      I
LAYOUT         BSQ
ULXMAP         559345.000
ULYMAP         4289602.000
XDIM           1.000
YDIM           1.000
SKIPBYTES      6185
MAP_UNITS METERS
BANDROWBYTES   6185
TOTALROWBYTES  6185
/* DATUM NAD83
/* PROJECTION_NAME UTM
/* PROJECTION_ZONE 10
/* SOURCE_IMAGE_DATE 1993 07 06
/* DOQ_FILE_NAME walter_springs_ne.doq
/* DOQ_QUAD_NAME WALTER_SPRINGS_NE
/* DOQ_STATE CA
