NROWS          7592
NCOLS          6190
NBANDS         1
NBITS          8
BYTEORDER      I
LAYOUT         BSQ
ULXMAP         559397.000
ULYMAP         4282666.000
XDIM           1.000
YDIM           1.000
SKIPBYTES      6190
MAP_UNITS METERS
BANDROWBYTES   6190
TOTALROWBYTES  6190
/* DATUM NAD83
/* PROJECTION_NAME UTM
/* PROJECTION_ZONE 10
/* SOURCE_IMAGE_DATE 1993 07 06
/* DOQ_FILE_NAME walter_springs_se.doq
/* DOQ_QUAD_NAME WALTER_SPRINGS_SE
/* DOQ_STATE CA
