NROWS          7589
NCOLS          6186
NBANDS         1
NBITS          8
BYTEORDER      I
LAYOUT         BSQ
ULXMAP         553961.000
ULYMAP         4282624.000
XDIM           1.000
YDIM           1.000
SKIPBYTES      6186
MAP_UNITS METERS
BANDROWBYTES   6186
TOTALROWBYTES  6186
/* DATUM NAD83
/* PROJECTION_NAME UTM
/* PROJECTION_ZONE 10
/* SOURCE_IMAGE_DATE 1993 07 06
/* DOQ_FILE_NAME walter_springs_sw.doq
/* DOQ_QUAD_NAME WALTER_SPRINGS_SW
/* DOQ_STATE CA
