1.000000
0.000000
0.000000
-1.000000
648517.500
4165954.500
