1.000000
0.000000
0.000000
-1.000000
643121.500
4158918.500
