1.000000
0.000000
0.000000
-1.000000
637485.500
4165755.500
