1.000000
0.000000
0.000000
-1.000000
631969.500
4165662.500
