1.000000
0.000000
0.000000
-1.000000
637600.500
4158821.500
