1.000000
0.000000
0.000000
-1.000000
632080.500
4158727.500
