1.000000
0.000000
0.000000
-1.000000
626453.500
4165572.500
