1.000000
0.000000
0.000000
-1.000000
626560.500
4158637.500
