1.000000
0.000000
0.000000
-1.000000
621039.500
4158551.500
