1.000000
0.000000
0.000000
-1.000000
670294.500
4180265.500
