1.000000
0.000000
0.000000
-1.000000
664787.500
4180149.500
