1.000000
0.000000
0.000000
-1.000000
653773.500
4179929.500
