1.000000
0.000000
0.000000
-1.000000
653903.500
4172994.500
