1.000000
0.000000
0.000000
-1.000000
648267.500
4179824.500
