1.000000
0.000000
0.000000
-1.000000
642760.500
4179723.500
