1.000000
0.000000
0.000000
-1.000000
648392.500
4172889.500
