1.000000
0.000000
0.000000
-1.000000
642881.500
4172788.500
