1.000000
0.000000
0.000000
-1.000000
637254.500
4179625.500
