1.000000
0.000000
0.000000
-1.000000
631747.500
4179531.500
