1.000000
0.000000
0.000000
-1.000000
637369.500
4172690.500
