1.000000
0.000000
0.000000
-1.000000
631858.500
4172597.500
