1.000000
0.000000
0.000000
-1.000000
626241.500
4179441.500
