1.000000
0.000000
0.000000
-1.000000
620734.500
4179355.500
