1.000000
0.000000
0.000000
-1.000000
626347.500
4172506.500
