1.000000
0.000000
0.000000
-1.000000
620836.500
4172420.500
