1.000000
0.000000
0.000000
-1.000000
670006.500
4194136.500
